Package: TADCompare Version: 1.17.0 Command: rm -rf TADCompare.buildbin-libdir && mkdir TADCompare.buildbin-libdir && /Users/biocbuild/BBS/utils/build-universal.sh TADCompare_1.17.0.tar.gz /Library/Frameworks/R.framework/Resources/bin/R TADCompare.buildbin-libdir StartedAt: 2025-02-05 01:05:37 -0500 (Wed, 05 Feb 2025) EndedAt: 2025-02-05 01:06:20 -0500 (Wed, 05 Feb 2025) EllapsedTime: 42.9 seconds RetCode: 0 Status: OK PackageFile: TADCompare_1.17.0.tgz PackageFileSize: 5.004 MiB