Package: TADCompare Version: 1.17.0 Command: /Library/Frameworks/R.framework/Resources/bin/R CMD INSTALL TADCompare StartedAt: 2025-02-09 15:43:53 -0500 (Sun, 09 Feb 2025) EndedAt: 2025-02-09 15:44:33 -0500 (Sun, 09 Feb 2025) EllapsedTime: 40.4 seconds RetCode: 0 Status: OK