Package: TADCompare Version: 1.17.0 Command: rm -rf TADCompare.buildbin-libdir && mkdir TADCompare.buildbin-libdir && E:\biocbuild\bbs-3.21-bioc\R\bin\R.exe CMD INSTALL --build --library=TADCompare.buildbin-libdir TADCompare_1.17.0.tar.gz StartedAt: 2025-02-10 08:50:33 -0500 (Mon, 10 Feb 2025) EndedAt: 2025-02-10 08:51:14 -0500 (Mon, 10 Feb 2025) EllapsedTime: 41.8 seconds RetCode: 0 Status: OK PackageFile: TADCompare_1.17.0.zip PackageFileSize: 4.275 MiB