Package: TADCompare Version: 1.17.0 Command: chmod a+r TADCompare -R && E:\biocbuild\bbs-3.21-bioc\R\bin\R.exe CMD build --keep-empty-dirs --no-resave-data TADCompare StartedAt: 2025-02-09 22:01:28 -0500 (Sun, 09 Feb 2025) EndedAt: 2025-02-09 22:03:03 -0500 (Sun, 09 Feb 2025) EllapsedTime: 95.0 seconds RetCode: 0 Status: OK PackageFile: TADCompare_1.17.0.tar.gz PackageFileSize: 3.463 MiB