Package: TAPseq Version: 1.19.0 Command: rm -rf TAPseq.buildbin-libdir && mkdir TAPseq.buildbin-libdir && /Users/biocbuild/BBS/utils/build-universal.sh TAPseq_1.19.0.tar.gz /Library/Frameworks/R.framework/Resources/bin/R TAPseq.buildbin-libdir StartedAt: 2025-02-09 22:33:08 -0500 (Sun, 09 Feb 2025) EndedAt: 2025-02-09 22:33:25 -0500 (Sun, 09 Feb 2025) EllapsedTime: 17.4 seconds RetCode: 0 Status: OK PackageFile: TAPseq_1.19.0.tgz PackageFileSize: 2.962 MiB