Package: TAPseq Version: 1.19.0 Command: /home/biocbuild/R/R/bin/R CMD build --keep-empty-dirs --no-resave-data TAPseq StartedAt: 2025-01-28 02:51:48 -0000 (Tue, 28 Jan 2025) EndedAt: 2025-01-28 02:59:08 -0000 (Tue, 28 Jan 2025) EllapsedTime: 439.2 seconds RetCode: 0 Status: OK PackageFile: TAPseq_1.19.0.tar.gz PackageFileSize: 2.513 MiB