Package: TAPseq Version: 1.19.0 Command: /home/biocbuild/R/R/bin/R CMD INSTALL TAPseq StartedAt: 2025-01-29 19:55:43 -0000 (Wed, 29 Jan 2025) EndedAt: 2025-01-29 19:56:38 -0000 (Wed, 29 Jan 2025) EllapsedTime: 55.2 seconds RetCode: 0 Status: OK