Package: TAPseq Version: 1.19.0 Command: rm -rf TAPseq.buildbin-libdir && mkdir TAPseq.buildbin-libdir && /Users/biocbuild/BBS/utils/build-universal.sh TAPseq_1.19.0.tar.gz /Library/Frameworks/R.framework/Resources/bin/R TAPseq.buildbin-libdir StartedAt: 2025-02-10 01:19:56 -0500 (Mon, 10 Feb 2025) EndedAt: 2025-02-10 01:20:55 -0500 (Mon, 10 Feb 2025) EllapsedTime: 58.7 seconds RetCode: 0 Status: OK PackageFile: TAPseq_1.19.0.tgz PackageFileSize: 2.959 MiB