Package: TAPseq Version: 1.19.0 Command: /Library/Frameworks/R.framework/Resources/bin/R CMD check --install=check:TAPseq.install-out.txt --library=/Library/Frameworks/R.framework/Resources/library --no-vignettes --timings TAPseq_1.19.0.tar.gz StartedAt: 2025-02-10 00:02:58 -0500 (Mon, 10 Feb 2025) EndedAt: 2025-02-10 00:13:08 -0500 (Mon, 10 Feb 2025) EllapsedTime: 610.2 seconds RetCode: 0 Status: WARNINGS CheckDir: TAPseq.Rcheck Warnings: 1