Package: TAPseq Version: 1.19.0 Command: /home/biocbuild/bbs-3.21-bioc/R/bin/R CMD build --keep-empty-dirs --no-resave-data TAPseq StartedAt: 2025-02-09 19:33:23 -0500 (Sun, 09 Feb 2025) EndedAt: 2025-02-09 19:37:29 -0500 (Sun, 09 Feb 2025) EllapsedTime: 245.5 seconds RetCode: 0 Status: OK PackageFile: TAPseq_1.19.0.tar.gz PackageFileSize: 2.563 MiB