Package: TAPseq Version: 1.19.0 Command: /home/biocbuild/bbs-3.21-bioc/R/bin/R CMD INSTALL TAPseq StartedAt: 2025-02-09 15:37:57 -0500 (Sun, 09 Feb 2025) EndedAt: 2025-02-09 15:38:38 -0500 (Sun, 09 Feb 2025) EllapsedTime: 40.6 seconds RetCode: 0 Status: OK