Package: TAPseq Version: 1.19.0 Command: rm -rf TAPseq.buildbin-libdir && mkdir TAPseq.buildbin-libdir && E:\biocbuild\bbs-3.21-bioc\R\bin\R.exe CMD INSTALL --build --library=TAPseq.buildbin-libdir TAPseq_1.19.0.tar.gz StartedAt: 2025-02-10 08:50:35 -0500 (Mon, 10 Feb 2025) EndedAt: 2025-02-10 08:52:13 -0500 (Mon, 10 Feb 2025) EllapsedTime: 97.8 seconds RetCode: 0 Status: OK PackageFile: TAPseq_1.19.0.zip PackageFileSize: 2.881 MiB