Package: TAPseq Version: 1.19.0 Command: chmod a+r TAPseq -R && E:\biocbuild\bbs-3.21-bioc\R\bin\R.exe CMD build --keep-empty-dirs --no-resave-data TAPseq StartedAt: 2025-02-09 22:01:45 -0500 (Sun, 09 Feb 2025) EndedAt: 2025-02-09 22:07:10 -0500 (Sun, 09 Feb 2025) EllapsedTime: 325.2 seconds RetCode: 0 Status: OK PackageFile: TAPseq_1.19.0.tar.gz PackageFileSize: 2.437 MiB