Package: TAPseq Version: 1.19.0 Command: E:\biocbuild\bbs-3.21-bioc\R\bin\R.exe CMD check --no-multiarch --install=check:TAPseq.install-out.txt --library=E:\biocbuild\bbs-3.21-bioc\R\library --no-vignettes --timings TAPseq_1.19.0.tar.gz StartedAt: 2025-02-05 06:28:58 -0500 (Wed, 05 Feb 2025) EndedAt: 2025-02-05 06:40:47 -0500 (Wed, 05 Feb 2025) EllapsedTime: 709.2 seconds RetCode: 0 Status: WARNINGS CheckDir: TAPseq.Rcheck Warnings: 1