Package: TBSignatureProfiler Version: 1.19.0 Command: /Library/Frameworks/R.framework/Resources/bin/R CMD check --install=check:TBSignatureProfiler.install-out.txt --library=/Library/Frameworks/R.framework/Resources/library --no-vignettes --timings TBSignatureProfiler_1.19.0.tar.gz StartedAt: 2025-02-12 21:47:26 -0500 (Wed, 12 Feb 2025) EndedAt: 2025-02-12 21:48:27 -0500 (Wed, 12 Feb 2025) EllapsedTime: 60.7 seconds RetCode: 0 Status: OK CheckDir: TBSignatureProfiler.Rcheck Warnings: 0