Package: TBSignatureProfiler Version: 1.19.0 Command: /home/biocbuild/bbs-3.21-bioc/R/bin/R CMD INSTALL TBSignatureProfiler StartedAt: 2025-02-09 15:54:57 -0500 (Sun, 09 Feb 2025) EndedAt: 2025-02-09 15:55:01 -0500 (Sun, 09 Feb 2025) EllapsedTime: 4.2 seconds RetCode: 0 Status: OK