Package: TBSignatureProfiler Version: 1.19.0 Command: rm -rf TBSignatureProfiler.buildbin-libdir && mkdir TBSignatureProfiler.buildbin-libdir && E:\biocbuild\bbs-3.21-bioc\R\bin\R.exe CMD INSTALL --build --library=TBSignatureProfiler.buildbin-libdir TBSignatureProfiler_1.19.0.tar.gz StartedAt: 2025-02-10 08:50:57 -0500 (Mon, 10 Feb 2025) EndedAt: 2025-02-10 08:52:00 -0500 (Mon, 10 Feb 2025) EllapsedTime: 63.2 seconds RetCode: 0 Status: OK PackageFile: TBSignatureProfiler_1.19.0.zip PackageFileSize: 3.354 MiB