Package: TBSignatureProfiler Version: 1.19.0 Command: chmod a+r TBSignatureProfiler -R && E:\biocbuild\bbs-3.21-bioc\R\bin\R.exe CMD build --keep-empty-dirs --no-resave-data TBSignatureProfiler StartedAt: 2025-02-09 22:02:43 -0500 (Sun, 09 Feb 2025) EndedAt: 2025-02-09 22:03:13 -0500 (Sun, 09 Feb 2025) EllapsedTime: 30.3 seconds RetCode: 0 Status: OK PackageFile: TBSignatureProfiler_1.19.0.tar.gz PackageFileSize: 2.938 MiB