Package: TCC Version: 1.47.0 Command: rm -rf TCC.buildbin-libdir && mkdir TCC.buildbin-libdir && /Users/biocbuild/BBS/utils/build-universal.sh TCC_1.47.0.tar.gz /Library/Frameworks/R.framework/Resources/bin/R TCC.buildbin-libdir StartedAt: 2025-02-03 23:08:50 -0500 (Mon, 03 Feb 2025) EndedAt: 2025-02-03 23:09:04 -0500 (Mon, 03 Feb 2025) EllapsedTime: 13.4 seconds RetCode: 0 Status: OK PackageFile: TCC_1.47.0.tgz PackageFileSize: 2.949 MiB