Package: TCC Version: 1.47.0 Command: /Library/Frameworks/R.framework/Resources/bin/R CMD INSTALL TCC StartedAt: 2025-02-03 15:43:22 -0500 (Mon, 03 Feb 2025) EndedAt: 2025-02-03 15:43:33 -0500 (Mon, 03 Feb 2025) EllapsedTime: 11.5 seconds RetCode: 0 Status: OK