Package: TCC Version: 1.47.0 Command: /home/biocbuild/R/R/bin/R CMD INSTALL TCC StartedAt: 2025-01-29 19:48:19 -0000 (Wed, 29 Jan 2025) EndedAt: 2025-01-29 19:48:59 -0000 (Wed, 29 Jan 2025) EllapsedTime: 40.2 seconds RetCode: 0 Status: OK