Package: TCC Version: 1.47.0 Command: /Library/Frameworks/R.framework/Resources/bin/R CMD build --keep-empty-dirs --no-resave-data TCC StartedAt: 2025-02-03 18:36:44 -0500 (Mon, 03 Feb 2025) EndedAt: 2025-02-03 18:38:35 -0500 (Mon, 03 Feb 2025) EllapsedTime: 110.7 seconds RetCode: 0 Status: OK PackageFile: TCC_1.47.0.tar.gz PackageFileSize: 2.602 MiB