Package: TCC Version: 1.47.0 Command: /Library/Frameworks/R.framework/Resources/bin/R CMD INSTALL TCC StartedAt: 2025-02-09 15:15:53 -0500 (Sun, 09 Feb 2025) EndedAt: 2025-02-09 15:16:45 -0500 (Sun, 09 Feb 2025) EllapsedTime: 51.9 seconds RetCode: 0 Status: OK