Package: TCC Version: 1.47.0 Command: /home/biocbuild/bbs-3.21-bioc/R/bin/R CMD INSTALL TCC StartedAt: 2025-02-09 15:20:48 -0500 (Sun, 09 Feb 2025) EndedAt: 2025-02-09 15:21:16 -0500 (Sun, 09 Feb 2025) EllapsedTime: 28.7 seconds RetCode: 0 Status: OK