Package: TCC Version: 1.47.0 Command: rm -rf TCC.buildbin-libdir && mkdir TCC.buildbin-libdir && E:\biocbuild\bbs-3.21-bioc\R\bin\R.exe CMD INSTALL --build --library=TCC.buildbin-libdir TCC_1.47.0.tar.gz StartedAt: 2025-02-10 08:50:58 -0500 (Mon, 10 Feb 2025) EndedAt: 2025-02-10 08:51:39 -0500 (Mon, 10 Feb 2025) EllapsedTime: 41.2 seconds RetCode: 0 Status: OK PackageFile: TCC_1.47.0.zip PackageFileSize: 1.712 MiB