Package: TCC Version: 1.47.0 Command: chmod a+r TCC -R && E:\biocbuild\bbs-3.21-bioc\R\bin\R.exe CMD build --keep-empty-dirs --no-resave-data TCC StartedAt: 2025-02-03 22:15:06 -0500 (Mon, 03 Feb 2025) EndedAt: 2025-02-03 22:17:19 -0500 (Mon, 03 Feb 2025) EllapsedTime: 132.5 seconds RetCode: 0 Status: OK PackageFile: TCC_1.47.0.tar.gz PackageFileSize: 1.366 MiB