Package: TCC Version: 1.47.0 Command: E:\biocbuild\bbs-3.21-bioc\R\bin\R.exe CMD check --no-multiarch --install=check:TCC.install-out.txt --library=E:\biocbuild\bbs-3.21-bioc\R\library --no-vignettes --timings TCC_1.47.0.tar.gz StartedAt: 2025-02-04 06:31:56 -0500 (Tue, 04 Feb 2025) EndedAt: 2025-02-04 06:37:10 -0500 (Tue, 04 Feb 2025) EllapsedTime: 313.7 seconds RetCode: 0 Status: OK CheckDir: TCC.Rcheck Warnings: 0