Package: TCC Version: 1.47.0 Command: E:\biocbuild\bbs-3.21-bioc\R\bin\R.exe CMD INSTALL TCC StartedAt: 2025-02-03 16:25:04 -0500 (Mon, 03 Feb 2025) EndedAt: 2025-02-03 16:25:47 -0500 (Mon, 03 Feb 2025) EllapsedTime: 42.6 seconds RetCode: 0 Status: OK