Package: TCGAutils Version: 1.27.6 Command: rm -rf TCGAutils.buildbin-libdir && mkdir TCGAutils.buildbin-libdir && /Users/biocbuild/BBS/utils/build-universal.sh TCGAutils_1.27.6.tar.gz /Library/Frameworks/R.framework/Resources/bin/R TCGAutils.buildbin-libdir StartedAt: 2025-02-09 22:33:13 -0500 (Sun, 09 Feb 2025) EndedAt: 2025-02-09 22:33:29 -0500 (Sun, 09 Feb 2025) EllapsedTime: 16.4 seconds RetCode: 0 Status: OK PackageFile: TCGAutils_1.27.6.tgz PackageFileSize: 521.7 KiB