Package: TCGAutils Version: 1.27.6 Command: /Library/Frameworks/R.framework/Resources/bin/R CMD build --keep-empty-dirs --no-resave-data TCGAutils StartedAt: 2025-02-09 17:47:27 -0500 (Sun, 09 Feb 2025) EndedAt: 2025-02-09 17:48:34 -0500 (Sun, 09 Feb 2025) EllapsedTime: 66.8 seconds RetCode: 0 Status: OK PackageFile: TCGAutils_1.27.6.tar.gz PackageFileSize: 399.1 KiB