Package: TCGAutils Version: 1.27.6 Command: /Library/Frameworks/R.framework/Resources/bin/R CMD check --install=check:TCGAutils.install-out.txt --library=/Library/Frameworks/R.framework/Resources/library --no-vignettes --timings TCGAutils_1.27.6.tar.gz StartedAt: 2025-02-09 21:42:28 -0500 (Sun, 09 Feb 2025) EndedAt: 2025-02-09 21:45:07 -0500 (Sun, 09 Feb 2025) EllapsedTime: 158.9 seconds RetCode: 0 Status: OK CheckDir: TCGAutils.Rcheck Warnings: 0