Package: TCGAutils Version: 1.27.6 Command: /Library/Frameworks/R.framework/Resources/bin/R CMD INSTALL TCGAutils StartedAt: 2025-02-09 15:09:20 -0500 (Sun, 09 Feb 2025) EndedAt: 2025-02-09 15:09:38 -0500 (Sun, 09 Feb 2025) EllapsedTime: 17.5 seconds RetCode: 0 Status: OK