Package: TCGAutils Version: 1.27.6 Command: /home/biocbuild/R/R/bin/R CMD build --keep-empty-dirs --no-resave-data TCGAutils StartedAt: 2025-01-28 02:52:57 -0000 (Tue, 28 Jan 2025) EndedAt: 2025-01-28 02:57:50 -0000 (Tue, 28 Jan 2025) EllapsedTime: 292.1 seconds RetCode: 0 Status: OK PackageFile: TCGAutils_1.27.6.tar.gz PackageFileSize: 364.8 KiB