Package: TCGAutils Version: 1.27.6 Command: /home/biocbuild/R/R/bin/R CMD INSTALL TCGAutils StartedAt: 2025-01-29 19:51:45 -0000 (Wed, 29 Jan 2025) EndedAt: 2025-01-29 19:52:40 -0000 (Wed, 29 Jan 2025) EllapsedTime: 54.7 seconds RetCode: 0 Status: OK