Package: TCGAutils Version: 1.27.6 Command: /Library/Frameworks/R.framework/Resources/bin/R CMD check --install=check:TCGAutils.install-out.txt --library=/Library/Frameworks/R.framework/Resources/library --no-vignettes --timings TCGAutils_1.27.6.tar.gz StartedAt: 2025-02-12 23:48:16 -0500 (Wed, 12 Feb 2025) EndedAt: 2025-02-12 23:55:30 -0500 (Wed, 12 Feb 2025) EllapsedTime: 434.0 seconds RetCode: 0 Status: OK CheckDir: TCGAutils.Rcheck Warnings: 0