Package: TCGAutils Version: 1.27.6 Command: /home/biocbuild/bbs-3.21-bioc/R/bin/R CMD INSTALL TCGAutils StartedAt: 2025-02-12 15:41:55 -0500 (Wed, 12 Feb 2025) EndedAt: 2025-02-12 15:42:32 -0500 (Wed, 12 Feb 2025) EllapsedTime: 37.2 seconds RetCode: 0 Status: OK