Package: TCGAutils Version: 1.27.6 Command: rm -rf TCGAutils.buildbin-libdir && mkdir TCGAutils.buildbin-libdir && E:\biocbuild\bbs-3.21-bioc\R\bin\R.exe CMD INSTALL --build --library=TCGAutils.buildbin-libdir TCGAutils_1.27.6.tar.gz StartedAt: 2025-02-10 08:51:01 -0500 (Mon, 10 Feb 2025) EndedAt: 2025-02-10 08:52:07 -0500 (Mon, 10 Feb 2025) EllapsedTime: 66.6 seconds RetCode: 0 Status: OK PackageFile: TCGAutils_1.27.6.zip PackageFileSize: 458.8 KiB