Package: TCGAutils Version: 1.27.6 Command: chmod a+r TCGAutils -R && E:\biocbuild\bbs-3.21-bioc\R\bin\R.exe CMD build --keep-empty-dirs --no-resave-data TCGAutils StartedAt: 2025-02-09 22:03:00 -0500 (Sun, 09 Feb 2025) EndedAt: 2025-02-09 22:06:22 -0500 (Sun, 09 Feb 2025) EllapsedTime: 201.8 seconds RetCode: 0 Status: OK PackageFile: TCGAutils_1.27.6.tar.gz PackageFileSize: 333.3 KiB