Package: TCGAutils Version: 1.27.6 Command: E:\biocbuild\bbs-3.21-bioc\R\bin\R.exe CMD check --no-multiarch --install=check:TCGAutils.install-out.txt --library=E:\biocbuild\bbs-3.21-bioc\R\library --no-vignettes --timings TCGAutils_1.27.6.tar.gz StartedAt: 2025-02-10 06:06:31 -0500 (Mon, 10 Feb 2025) EndedAt: 2025-02-10 06:15:38 -0500 (Mon, 10 Feb 2025) EllapsedTime: 547.0 seconds RetCode: 0 Status: OK CheckDir: TCGAutils.Rcheck Warnings: 0