Package: TCGAutils Version: 1.27.6 Command: E:\biocbuild\bbs-3.21-bioc\R\bin\R.exe CMD INSTALL TCGAutils StartedAt: 2025-02-09 16:29:05 -0500 (Sun, 09 Feb 2025) EndedAt: 2025-02-09 16:29:59 -0500 (Sun, 09 Feb 2025) EllapsedTime: 54.1 seconds RetCode: 0 Status: OK