Package: TCseq Version: 1.31.0 Command: rm -rf TCseq.buildbin-libdir && mkdir TCseq.buildbin-libdir && /Users/biocbuild/BBS/utils/build-universal.sh TCseq_1.31.0.tar.gz /Library/Frameworks/R.framework/Resources/bin/R TCseq.buildbin-libdir StartedAt: 2025-02-09 22:33:13 -0500 (Sun, 09 Feb 2025) EndedAt: 2025-02-09 22:33:26 -0500 (Sun, 09 Feb 2025) EllapsedTime: 13.3 seconds RetCode: 0 Status: OK PackageFile: TCseq_1.31.0.tgz PackageFileSize: 830 KiB