Package: TCseq Version: 1.31.0 Command: /Library/Frameworks/R.framework/Resources/bin/R CMD build --keep-empty-dirs --no-resave-data TCseq StartedAt: 2025-02-09 18:41:48 -0500 (Sun, 09 Feb 2025) EndedAt: 2025-02-09 18:42:40 -0500 (Sun, 09 Feb 2025) EllapsedTime: 52.2 seconds RetCode: 0 Status: OK PackageFile: TCseq_1.31.0.tar.gz PackageFileSize: 1.114 MiB