Package: TCseq Version: 1.31.0 Command: /Library/Frameworks/R.framework/Resources/bin/R CMD check --install=check:TCseq.install-out.txt --library=/Library/Frameworks/R.framework/Resources/library --no-vignettes --timings TCseq_1.31.0.tar.gz StartedAt: 2025-02-10 00:04:18 -0500 (Mon, 10 Feb 2025) EndedAt: 2025-02-10 00:08:19 -0500 (Mon, 10 Feb 2025) EllapsedTime: 241.2 seconds RetCode: 0 Status: WARNINGS CheckDir: TCseq.Rcheck Warnings: 1