Package: TDbasedUFE Version: 1.7.0 Command: /Library/Frameworks/R.framework/Resources/bin/R CMD build --keep-empty-dirs --no-resave-data TDbasedUFE StartedAt: 2025-02-04 17:47:50 -0500 (Tue, 04 Feb 2025) EndedAt: 2025-02-04 17:48:03 -0500 (Tue, 04 Feb 2025) EllapsedTime: 13.1 seconds RetCode: 0 Status: OK PackageFile: TDbasedUFE_1.7.0.tar.gz PackageFileSize: 1.349 MiB