Package: TDbasedUFE Version: 1.7.0 Command: /Library/Frameworks/R.framework/Resources/bin/R CMD check --install=check:TDbasedUFE.install-out.txt --library=/Library/Frameworks/R.framework/Resources/library --no-vignettes --timings TDbasedUFE_1.7.0.tar.gz StartedAt: 2025-02-09 21:42:46 -0500 (Sun, 09 Feb 2025) EndedAt: 2025-02-09 21:43:30 -0500 (Sun, 09 Feb 2025) EllapsedTime: 44.6 seconds RetCode: 0 Status: OK CheckDir: TDbasedUFE.Rcheck Warnings: 0