Package: TDbasedUFE Version: 1.7.0 Command: /Library/Frameworks/R.framework/Resources/bin/R CMD INSTALL TDbasedUFE StartedAt: 2025-02-04 15:16:54 -0500 (Tue, 04 Feb 2025) EndedAt: 2025-02-04 15:16:59 -0500 (Tue, 04 Feb 2025) EllapsedTime: 5.0 seconds RetCode: 0 Status: OK