Package: TDbasedUFE Version: 1.7.0 Command: /home/biocbuild/bbs-3.21-bioc/R/bin/R CMD build --keep-empty-dirs --no-resave-data TDbasedUFE StartedAt: 2025-02-09 19:34:12 -0500 (Sun, 09 Feb 2025) EndedAt: 2025-02-09 19:34:42 -0500 (Sun, 09 Feb 2025) EllapsedTime: 30.0 seconds RetCode: 0 Status: OK PackageFile: TDbasedUFE_1.7.0.tar.gz PackageFileSize: 1.286 MiB