Package: TDbasedUFE Version: 1.7.0 Command: /home/biocbuild/bbs-3.21-bioc/R/bin/R CMD check --install=check:TDbasedUFE.install-out.txt --library=/home/biocbuild/bbs-3.21-bioc/R/site-library --timings TDbasedUFE_1.7.0.tar.gz StartedAt: 2025-02-10 03:17:44 -0500 (Mon, 10 Feb 2025) EndedAt: 2025-02-10 03:19:52 -0500 (Mon, 10 Feb 2025) EllapsedTime: 128.2 seconds RetCode: 0 Status: OK CheckDir: TDbasedUFE.Rcheck Warnings: 0