Package: TDbasedUFE Version: 1.7.0 Command: /home/biocbuild/bbs-3.21-bioc/R/bin/R CMD INSTALL TDbasedUFE StartedAt: 2025-02-04 15:14:36 -0500 (Tue, 04 Feb 2025) EndedAt: 2025-02-04 15:14:47 -0500 (Tue, 04 Feb 2025) EllapsedTime: 11.3 seconds RetCode: 0 Status: OK