Package: TDbasedUFE Version: 1.7.0 Command: rm -rf TDbasedUFE.buildbin-libdir && mkdir TDbasedUFE.buildbin-libdir && E:\biocbuild\bbs-3.21-bioc\R\bin\R.exe CMD INSTALL --build --library=TDbasedUFE.buildbin-libdir TDbasedUFE_1.7.0.tar.gz StartedAt: 2025-02-05 09:04:11 -0500 (Wed, 05 Feb 2025) EndedAt: 2025-02-05 09:04:42 -0500 (Wed, 05 Feb 2025) EllapsedTime: 30.6 seconds RetCode: 0 Status: OK PackageFile: TDbasedUFE_1.7.0.zip PackageFileSize: 806.5 KiB